BEGIN:VCALENDAR
VERSION:2.0
PRODID:icalendar-ruby
CALSCALE:GREGORIAN
BEGIN:VTIMEZONE
TZID:America/Chicago
BEGIN:DAYLIGHT
DTSTART:20270314T030000
TZOFFSETFROM:-0600
TZOFFSETTO:-0500
RRULE:FREQ=YEARLY;BYDAY=2SU;BYMONTH=3
TZNAME:CDT
END:DAYLIGHT
BEGIN:STANDARD
DTSTART:20261101T010000
TZOFFSETFROM:-0500
TZOFFSETTO:-0600
RRULE:FREQ=YEARLY;BYDAY=1SU;BYMONTH=11
TZNAME:CST
END:STANDARD
END:VTIMEZONE
BEGIN:VEVENT
DTSTAMP:20260422T095905Z
UID:https://northshore.helpfulvillage.com/events/637
DTSTART;TZID=America/Chicago:20270101T070000
DTEND;TZID=America/Chicago:20270101T170000
CLASS:PRIVATE
CREATED:20260416T112121
DESCRIPTION:
LAST-MODIFIED:20260416T112149
SUMMARY:Village event: New Year's Day - Office Closed
URL;VALUE=URI:https://northshore.helpfulvillage.com/events/637
END:VEVENT
END:VCALENDAR
